Workbook
Name Acquisto_di_Beni: [1]Codici!#REF!
Name Acquisto_di_Beni: '[2]Cod.'!#REF!
Name Acquisto_o_realizzazione_di_servizi: [1]Codici!#REF!
Name Acquisto_o_realizzazione_di_servizi: '[2]Cod.'!#REF!
Name Anticipo: #REF!
Name BENI_NON_STRUMENTALI: [1]Codici!#REF!
Name BENI_NON_STRUMENTALI: '[2]Cod.'!#REF!
Name capitale: [1]Codici!#REF!
Name capitale: '[2]Cod.'!#REF!
Name Causale_Pagamento: #REF!
Name Concessione_di_contributi_ad_altri_soggetti_diversi_da_unita_produttive: [1]Codici!#REF!
Name Concessione_di_contributi_ad_altri_soggetti_diversi_da_unita_produttive: '[2]Cod.'!#REF!
Name Concessione_di_incentivi_ad_unita_produttive: [1]Codici!#REF!
Name Concessione_di_incentivi_ad_unita_produttive: '[2]Cod.'!#REF!
Name intervento: [1]Codici!#REF!
Name intervento: '[2]Cod.'!#REF!
Name Pagamento_Intermedio: #REF!
Name Realizzazione_di_lavori_pubblici: [1]Codici!#REF!
Name Realizzazione_di_lavori_pubblici: '[2]Cod.'!#REF!
Name Saldo: #REF!
Name Sottoscrizione_iniziale_o_aumento_di_capitale_sociale_fondi_di_rischio_o_di_garanzia: [1]Codici!#REF!
Name Sottoscrizione_iniziale_o_aumento_di_capitale_sociale_fondi_di_rischio_o_di_garanzia: '[2]Cod.'!#REF!
Name unità: [1]Codici!#REF!
Name unità: '[2]Cod.'!#REF!

Sheet Budget_dettaglio
A1: Titolo del Progetto (Acronimo)
A2: CUP
A3: Soggetto Proponente
A4: Partner 1
A5: Partner 2
A6: Partner 3
A7: Importo del contributo | C7: 0
D8: BUDGET VIGENTE | I8: BUDGET PROPOSTO
A9: n. | B9: WP/OR titolo | C9: Voce di costo | D9: Proponente | E9: Partner 1 | F9: Partner 2 | G9: Partner 3 | H9: TOTALE BGT VIGENTE | I9: Proponente | J9: Partner 1 | K9: Partner 2 | L9: Partner 3 | M9: TOTALE BGT PROPOSTO
A10: 1 | C10: SUB-TOTALE WP n. 1 | D10: =D11+D12+D13+D14+D15 -> 0 | E10: =E11+E12+E13+E14+E15 -> 0 | F10: =F11+F12+F13+F14+F15 -> 0 | G10: =G11+G12+G13+G14+G15 -> 0 | H10: =D10+E10+F10+G10 -> 0 | I10: =I11+I12+I13+I14+I15 -> 0 | J10: =J11+J12+J13+J14+J15 -> 0 | K10: =K11+K12+K13+K14+K15 -> 0 | L10: =L11+L12+L13+L14+L15 -> 0 | M10: =I10+J10+K10+L10 -> 0
C11: A. Costi Terreni/Fabbricati | H11: =D11+E11+F11+G11 -> 0 | M11: =I11+J11+K11+L11 -> 0
C12: B. Costi Strumenti/attrezzature | H12: =D12+E12+F12+G12 -> 0 | M12: =I12+J12+K12+L12 -> 0
C13: C. Costi del Personale | H13: =D13+E13+F13+G13 -> 0 | M13: =I13+J13+K13+L13 -> 0
C14: D. Costi di Attivi immateriali | H14: =D14+E14+F14+G14 -> 0 | M14: =I14+J14+K14+L14 -> 0
C15: E. Costi per Spese generali | H15: =D15+E15+F15+G15 -> 0 | M15: =I15+J15+K15+L15 -> 0
A16: 2 | C16: SUB-TOTALE WP n. 2 | D16: =D17+D18+D19+D20+D21 -> 0 | E16: =E17+E18+E19+E20+E21 -> 0 | F16: =F17+F18+F19+F20+F21 -> 0 | G16: =G17+G18+G19+G20+G21 -> 0 | H16: =D16+E16+F16+G16 -> 0 | I16: =I17+I18+I19+I20+I21 -> 0 | J16: =J17+J18+J19+J20+J21 -> 0 | K16: =K17+K18+K19+K20+K21 -> 0 | L16: =L17+L18+L19+L20+L21 -> 0 | M16: =I16+J16+K16+L16 -> 0
C17: A. Costi Terreni/Fabbricati | H17: =D17+E17+F17+G17 -> 0 | M17: =I17+J17+K17+L17 -> 0
C18: B. Costi Strumenti/attrezzature | H18: =D18+E18+F18+G18 -> 0 | M18: =I18+J18+K18+L18 -> 0
C19: C. Costi del Personale | H19: =D19+E19+F19+G19 -> 0 | M19: =I19+J19+K19+L19 -> 0
C20: D. Costi di Attivi immateriali | H20: =D20+E20+F20+G20 -> 0 | M20: =I20+J20+K20+L20 -> 0
C21: E. Costi per Spese generali | H21: =D21+E21+F21+G21 -> 0 | M21: =I21+J21+K21+L21 -> 0
A22: 3 | C22: SUB-TOTALE WP n. 3 | D22: =D23+D24+D25+D26+D27 -> 0 | E22: =E23+E24+E25+E26+E27 -> 0 | F22: =F23+F24+F25+F26+F27 -> 0 | G22: =G23+G24+G25+G26+G27 -> 0 | H22: =D22+E22+F22+G22 -> 0 | I22: =I23+I24+I25+I26+I27 -> 0 | J22: =J23+J24+J25+J26+J27 -> 0 | K22: =K23+K24+K25+K26+K27 -> 0 | L22: =L23+L24+L25+L26+L27 -> 0 | M22: =I22+J22+K22+L22 -> 0
C23: A. Costi Terreni/Fabbricati | H23: =D23+E23+F23+G23 -> 0 | M23: =I23+J23+K23+L23 -> 0
C24: B. Costi Strumenti/attrezzature | H24: =D24+E24+F24+G24 -> 0 | M24: =I24+J24+K24+L24 -> 0
C25: C. Costi del Personale | H25: =D25+E25+F25+G25 -> 0 | M25: =I25+J25+K25+L25 -> 0
C26: D. Costi di Attivi immateriali | H26: =D26+E26+F26+G26 -> 0 | M26: =I26+J26+K26+L26 -> 0
C27: E. Costi per Spese generali | H27: =D27+E27+F27+G27 -> 0 | M27: =I27+J27+K27+L27 -> 0
A28: 4 | C28: SUB-TOTALE WP n. 4 | D28: =D29+D30+D31+D32+D33 -> 0 | E28: =E29+E30+E31+E32+E33 -> 0 | F28: =F29+F30+F31+F32+F33 -> 0 | G28: =G29+G30+G31+G32+G33 -> 0 | H28: =D28+E28+F28+G28 -> 0 | I28: =I29+I30+I31+I32+I33 -> 0 | J28: =J29+J30+J31+J32+J33 -> 0 | K28: =K29+K30+K31+K32+K33 -> 0 | L28: =L29+L30+L31+L32+L33 -> 0 | M28: =I28+J28+K28+L28 -> 0
C29: A. Costi Terreni/Fabbricati | H29: =D29+E29+F29+G29 -> 0 | M29: =I29+J29+K29+L29 -> 0
C30: B. Costi Strumenti/attrezzature | H30: =D30+E30+F30+G30 -> 0 | M30: =I30+J30+K30+L30 -> 0
C31: C. Costi del Personale | H31: =D31+E31+F31+G31 -> 0 | M31: =I31+J31+K31+L31 -> 0
C32: D. Costi di Attivi immateriali | H32: =D32+E32+F32+G32 -> 0 | M32: =I32+J32+K32+L32 -> 0
C33: E. Costi per Spese generali | H33: =D33+E33+F33+G33 -> 0 | M33: =I33+J33+K33+L33 -> 0
A34: 5 | C34: SUB-TOTALE WP n. 5 | D34: =D35+D36+D37+D38+D39 -> 0 | E34: =E35+E36+E37+E38+E39 -> 0 | F34: =F35+F36+F37+F38+F39 -> 0 | G34: =G35+G36+G37+G38+G39 -> 0 | H34: =D34+E34+F34+G34 -> 0 | I34: =I35+I36+I37+I38+I39 -> 0 | J34: =J35+J36+J37+J38+J39 -> 0 | K34: =K35+K36+K37+K38+K39 -> 0 | L34: =L35+L36+L37+L38+L39 -> 0 | M34: =I34+J34+K34+L34 -> 0
C35: A. Costi Terreni/Fabbricati | H35: =D35+E35+F35+G35 -> 0 | M35: =I35+J35+K35+L35 -> 0
C36: B. Costi Strumenti/attrezzature | H36: =D36+E36+F36+G36 -> 0 | M36: =I36+J36+K36+L36 -> 0
C37: C. Costi del Personale | H37: =D37+E37+F37+G37 -> 0 | M37: =I37+J37+K37+L37 -> 0
C38: D. Costi di Attivi immateriali | H38: =D38+E38+F38+G38 -> 0 | M38: =I38+J38+K38+L38 -> 0
C39: E. Costi per Spese generali | H39: =D39+E39+F39+G39 -> 0 | M39: =I39+J39+K39+L39 -> 0
A40: 6 | C40: SUB-TOTALE WP n. 6 | D40: =D41+D42+D43+D44+D45 -> 0 | E40: =E41+E42+E43+E44+E45 -> 0 | F40: =F41+F42+F43+F44+F45 -> 0 | G40: =G41+G42+G43+G44+G45 -> 0 | H40: =D40+E40+F40+G40 -> 0 | I40: =I41+I42+I43+I44+I45 -> 0 | J40: =J41+J42+J43+J44+J45 -> 0 | K40: =K41+K42+K43+K44+K45 -> 0 | L40: =L41+L42+L43+L44+L45 -> 0 | M40: =I40+J40+K40+L40 -> 0
...

Sheet Budget
A1: Titolo del Progetto | B1: =Budget_dettaglio!C1 -> 0
A2: CUP | B2: =Budget_dettaglio!C2 -> 0
A3: Soggetto Proponente | B3: =Budget_dettaglio!C3 -> 0
A4: Partner 1 | B4: =Budget_dettaglio!C4 -> 0
A5: Partner 2 | B5: =Budget_dettaglio!C5 -> 0
A6: Partner 3 | B6: =Budget_dettaglio!C6 -> 0
A7: Importo del contributo | B7: =Budget_dettaglio!C7 -> 0
B9: BUDGET VIGENTE | G9: BUDGET PROPOSTO | L9: VARIAZIONI
A10: VOCE DI COSTO | B10: =Budget_dettaglio!D9 -> Proponente | C10: =Budget_dettaglio!E9 -> Partner 1 | D10: =Budget_dettaglio!F9 -> Partner 2 | E10: =Budget_dettaglio!G9 -> Partner 3 | F10: TOTALE BGT VIGENTE | G10: =Budget_dettaglio!D9 -> Proponente | H10: =Budget_dettaglio!E9 -> Partner 1 | I10: =Budget_dettaglio!F9 -> Partner 2 | J10: =Budget_dettaglio!G9 -> Partner 3 | K10: TOTALE BGT PROPOSTO | L10: Importo (euro) | M10: verifica soglia 15% | N10: verifica soglie 30% e 7% Avviso | O10: verifica max 7% forfait
A11: A. Costi Terreni/Fabbricati | B11: =SUM(Budget_dettaglio!D11,Budget_dettaglio!D17,Budget_dettaglio!D23,Budget_dettaglio!D29,Budget_dettaglio!D35,Budget_dettaglio!D41,Budget_dettaglio!D47,Budget_dettaglio!D53,Budget_dettaglio!D59,Budget_dettaglio!D65) -> 0 | C11: =SUM(Budget_dettaglio!E11,Budget_dettaglio!E17,Budget_dettaglio!E23,Budget_dettaglio!E29,Budget_dettaglio!E35,Budget_dettaglio!E41,Budget_dettaglio!E47,Budget_dettaglio!E53,Budget_dettaglio!E59,Budget_dettaglio!E65) -> 0 | D11: =SUM(Budget_dettaglio!F11,Budget_dettaglio!F17,Budget_dettaglio!F23,Budget_dettaglio!F29,Budget_dettaglio!F35,Budget_dettaglio!F41,Budget_dettaglio!F47,Budget_dettaglio!F53,Budget_dettaglio!F59,Budget_dettaglio!F65) -> 0 | E11: =SUM(Budget_dettaglio!G11,Budget_dettaglio!G17,Budget_dettaglio!G23,Budget_dettaglio!G29,Budget_dettaglio!G35,Budget_dettaglio!G41,Budget_dettaglio!G47,Budget_dettaglio!G53,Budget_dettaglio!G59,Budget_dettaglio!G65) -> 0 | F11: =Budget_dettaglio!H11+Budget_dettaglio!H17+Budget_dettaglio!H23+Budget_dettaglio!H29+Budget_dettaglio!H35+Budget_dettaglio!H41+Budget_dettaglio!H47+Budget_dettaglio!H53+Budget_dettaglio!H59+Budget_dettaglio!H65 -> 0 | G11: =Budget_dettaglio!$I$11+Budget_dettaglio!$I$17+Budget_dettaglio!$I$23+Budget_dettaglio!$I$29+Budget_dettaglio!$I$35+Budget_dettaglio!$I$41+Budget_dettaglio!$I$47+Budget_dettaglio!$I$53+Budget_dettaglio!$I$59+Budget_dettaglio!$I$65 -> 0 | H11: =Budget_dettaglio!$J$11+Budget_dettaglio!$J$17+Budget_dettaglio!$J$23+Budget_dettaglio!$J$29+Budget_dettaglio!$J$35+Budget_dettaglio!$J$41+Budget_dettaglio!$J$47+Budget_dettaglio!$J$53+Budget_dettaglio!$J$59+Budget_dettaglio!$J$65 -> 0 | I11: =Budget_dettaglio!$K$11+Budget_dettaglio!$K$17+Budget_dettaglio!$K$23+Budget_dettaglio!$K$29+Budget_dettaglio!$K$35+Budget_dettaglio!$K$41+Budget_dettaglio!$K$47+Budget_dettaglio!$K$53+Budget_dettaglio!$K$59+Budget_dettaglio!$K$65 -> 0 | J11: =Budget_dettaglio!$L$11+Budget_dettaglio!$L$17+Budget_dettaglio!$L$23+Budget_dettaglio!$L$29+Budget_dettaglio!$L$35+Budget_dettaglio!$L$41+Budget_dettaglio!$L$47+Budget_dettaglio!$L$53+Budget_dettaglio!$L$59+Budget_dettaglio!$L$65 -> 0 | K11: =$G$11+$H$11+$I$11+$J$11 -> 0 | L11: =F11-K11 -> 0 | N11: =K11/K16 -> #DIV/0!
A12: B. Costi Strumenti/attrezzature | B12: =SUM(Budget_dettaglio!D12,Budget_dettaglio!D18,Budget_dettaglio!D24,Budget_dettaglio!D30,Budget_dettaglio!D36,Budget_dettaglio!D42,Budget_dettaglio!D48,Budget_dettaglio!D54,Budget_dettaglio!D60,Budget_dettaglio!D66) -> 0 | C12: =SUM(Budget_dettaglio!E12,Budget_dettaglio!E18,Budget_dettaglio!E24,Budget_dettaglio!E30,Budget_dettaglio!E36,Budget_dettaglio!E42,Budget_dettaglio!E48,Budget_dettaglio!E54,Budget_dettaglio!E60,Budget_dettaglio!E66) -> 0 | D12: =SUM(Budget_dettaglio!F12,Budget_dettaglio!F18,Budget_dettaglio!F24,Budget_dettaglio!F30,Budget_dettaglio!F36,Budget_dettaglio!F42,Budget_dettaglio!F48,Budget_dettaglio!F54,Budget_dettaglio!F60,Budget_dettaglio!F66) -> 0 | E12: =SUM(Budget_dettaglio!G12,Budget_dettaglio!G18,Budget_dettaglio!G24,Budget_dettaglio!G30,Budget_dettaglio!G36,Budget_dettaglio!G42,Budget_dettaglio!G48,Budget_dettaglio!G54,Budget_dettaglio!G60,Budget_dettaglio!G66) -> 0 | F12: =Budget_dettaglio!H12+Budget_dettaglio!H18+Budget_dettaglio!H24+Budget_dettaglio!H30+Budget_dettaglio!H36+Budget_dettaglio!H42+Budget_dettaglio!H48+Budget_dettaglio!H54+Budget_dettaglio!H60+Budget_dettaglio!H66 -> 0 | G12: =Budget_dettaglio!$I$12+Budget_dettaglio!$I$18+Budget_dettaglio!$I$24+Budget_dettaglio!$I$30+Budget_dettaglio!$I$36+Budget_dettaglio!$I$42+Budget_dettaglio!$I$48+Budget_dettaglio!$I$54+Budget_dettaglio!$I$60+Budget_dettaglio!$I$66 -> 0 | H12: =Budget_dettaglio!$J$12+Budget_dettaglio!$J$18+Budget_dettaglio!$J$24+Budget_dettaglio!$J$30+Budget_dettaglio!$J$36+Budget_dettaglio!$J$42+Budget_dettaglio!$J$48+Budget_dettaglio!$J$54+Budget_dettaglio!$J$60+Budget_dettaglio!$J$66 -> 0 | I12: =Budget_dettaglio!$K$12+Budget_dettaglio!$K$18+Budget_dettaglio!$K$24+Budget_dettaglio!$K$30+Budget_dettaglio!$K$36+Budget_dettaglio!$K$42+Budget_dettaglio!$K$48+Budget_dettaglio!$K$54+Budget_dettaglio!$K$60+Budget_dettaglio!$K$66 -> 0 | J12: =Budget_dettaglio!$L$12+Budget_dettaglio!$L$18+Budget_dettaglio!$L$24+Budget_dettaglio!$L$30+Budget_dettaglio!$L$36+Budget_dettaglio!$L$42+Budget_dettaglio!$L$48+Budget_dettaglio!$L$54+Budget_dettaglio!$L$60+Budget_dettaglio!$L$66 -> 0 | K12: =$G$12+$H$12+$I$12+$J$12 -> 0 | L12: =F12-K12 -> 0
A13: C. Costi del Personale | B13: =SUM(Budget_dettaglio!D13,Budget_dettaglio!D19,Budget_dettaglio!D25,Budget_dettaglio!D31,Budget_dettaglio!D37,Budget_dettaglio!D43,Budget_dettaglio!D49,Budget_dettaglio!D55,Budget_dettaglio!D61,Budget_dettaglio!D67) -> 0 | C13: =SUM(Budget_dettaglio!E13,Budget_dettaglio!E19,Budget_dettaglio!E25,Budget_dettaglio!E31,Budget_dettaglio!E37,Budget_dettaglio!E43,Budget_dettaglio!E49,Budget_dettaglio!E55,Budget_dettaglio!E61,Budget_dettaglio!E67) -> 0 | D13: =SUM(Budget_dettaglio!F13,Budget_dettaglio!F19,Budget_dettaglio!F25,Budget_dettaglio!F31,Budget_dettaglio!F37,Budget_dettaglio!F43,Budget_dettaglio!F49,Budget_dettaglio!F55,Budget_dettaglio!F61,Budget_dettaglio!F67) -> 0 | E13: =SUM(Budget_dettaglio!G13,Budget_dettaglio!G19,Budget_dettaglio!G25,Budget_dettaglio!G31,Budget_dettaglio!G37,Budget_dettaglio!G43,Budget_dettaglio!G49,Budget_dettaglio!G55,Budget_dettaglio!G61,Budget_dettaglio!G67) -> 0 | F13: =Budget_dettaglio!H13+Budget_dettaglio!H19+Budget_dettaglio!H25+Budget_dettaglio!H31+Budget_dettaglio!H37+Budget_dettaglio!H43+Budget_dettaglio!H49+Budget_dettaglio!H55+Budget_dettaglio!H61+Budget_dettaglio!H67 -> 0 | G13: =Budget_dettaglio!$I$13+Budget_dettaglio!$I$19+Budget_dettaglio!$I$25+Budget_dettaglio!$I$31+Budget_dettaglio!$I$37+Budget_dettaglio!$I$43+Budget_dettaglio!$I$49+Budget_dettaglio!$I$55+Budget_dettaglio!$I$61+Budget_dettaglio!$I$67 -> 0 | H13: =Budget_dettaglio!$J$13+Budget_dettaglio!$J$19+Budget_dettaglio!$J$25+Budget_dettaglio!$J$31+Budget_dettaglio!$J$37+Budget_dettaglio!$J$43+Budget_dettaglio!$J$49+Budget_dettaglio!$J$55+Budget_dettaglio!$J$61+Budget_dettaglio!$J$67 -> 0 | I13: =Budget_dettaglio!$K$13+Budget_dettaglio!$K$19+Budget_dettaglio!$K$25+Budget_dettaglio!$K$31+Budget_dettaglio!$K$37+Budget_dettaglio!$K$43+Budget_dettaglio!$K$49+Budget_dettaglio!$K$55+Budget_dettaglio!$K$61+Budget_dettaglio!$K$67 -> 0 | J13: =Budget_dettaglio!$L$13+Budget_dettaglio!$L$19+Budget_dettaglio!$L$25+Budget_dettaglio!$L$31+Budget_dettaglio!$L$37+Budget_dettaglio!$L$43+Budget_dettaglio!$L$49+Budget_dettaglio!$L$55+Budget_dettaglio!$L$61+Budget_dettaglio!$L$67 -> 0 | K13: =$G$13+$H$13+$I$13+$J$13 -> 0 | L13: =F13-K13 -> 0
A14: D. Costi di Attivi immateriali | B14: =SUM(Budget_dettaglio!D14,Budget_dettaglio!D20,Budget_dettaglio!D26,Budget_dettaglio!D32,Budget_dettaglio!D38,Budget_dettaglio!D44,Budget_dettaglio!D50,Budget_dettaglio!D56,Budget_dettaglio!D62,Budget_dettaglio!D68) -> 0 | C14: =SUM(Budget_dettaglio!E14,Budget_dettaglio!E20,Budget_dettaglio!E26,Budget_dettaglio!E32,Budget_dettaglio!E38,Budget_dettaglio!E44,Budget_dettaglio!E50,Budget_dettaglio!E56,Budget_dettaglio!E62,Budget_dettaglio!E68) -> 0 | D14: =SUM(Budget_dettaglio!F14,Budget_dettaglio!F20,Budget_dettaglio!F26,Budget_dettaglio!F32,Budget_dettaglio!F38,Budget_dettaglio!F44,Budget_dettaglio!F50,Budget_dettaglio!F56,Budget_dettaglio!F62,Budget_dettaglio!F68) -> 0 | E14: =SUM(Budget_dettaglio!G14,Budget_dettaglio!G20,Budget_dettaglio!G26,Budget_dettaglio!G32,Budget_dettaglio!G38,Budget_dettaglio!G44,Budget_dettaglio!G50,Budget_dettaglio!G56,Budget_dettaglio!G62,Budget_dettaglio!G68) -> 0 | F14: =Budget_dettaglio!H14+Budget_dettaglio!H20+Budget_dettaglio!H26+Budget_dettaglio!H32+Budget_dettaglio!H38+Budget_dettaglio!H44+Budget_dettaglio!H50+Budget_dettaglio!H56+Budget_dettaglio!H62+Budget_dettaglio!H68 -> 0 | G14: =Budget_dettaglio!$I$14+Budget_dettaglio!$I$20+Budget_dettaglio!$I$26+Budget_dettaglio!$I$32+Budget_dettaglio!$I$38+Budget_dettaglio!$I$44+Budget_dettaglio!$I$50+Budget_dettaglio!$I$56+Budget_dettaglio!$I$62+Budget_dettaglio!$I$68 -> 0 | H14: =Budget_dettaglio!$J$14+Budget_dettaglio!$J$20+Budget_dettaglio!$J$26+Budget_dettaglio!$J$32+Budget_dettaglio!$J$38+Budget_dettaglio!$J$44+Budget_dettaglio!$J$50+Budget_dettaglio!$J$56+Budget_dettaglio!$J$62+Budget_dettaglio!$J$68 -> 0 | I14: =Budget_dettaglio!$K$14+Budget_dettaglio!$K$20+Budget_dettaglio!$K$26+Budget_dettaglio!$K$32+Budget_dettaglio!$K$38+Budget_dettaglio!$K$44+Budget_dettaglio!$K$50+Budget_dettaglio!$K$56+Budget_dettaglio!$K$62+Budget_dettaglio!$K$68 -> 0 | J14: =Budget_dettaglio!$L$14+Budget_dettaglio!$L$20+Budget_dettaglio!$L$26+Budget_dettaglio!$L$32+Budget_dettaglio!$L$38+Budget_dettaglio!$L$44+Budget_dettaglio!$L$50+Budget_dettaglio!$L$56+Budget_dettaglio!$L$62+Budget_dettaglio!$L$68 -> 0 | K14: =$G$14+$H$14+$I$14+$J$14 -> 0 | L14: =F14-K14 -> 0
A15: E. Costi per Spese generali | B15: =SUM(Budget_dettaglio!D15,Budget_dettaglio!D21,Budget_dettaglio!D27,Budget_dettaglio!D33,Budget_dettaglio!D39,Budget_dettaglio!D45,Budget_dettaglio!D51,Budget_dettaglio!D57,Budget_dettaglio!D63,Budget_dettaglio!D69) -> 0 | C15: =SUM(Budget_dettaglio!E15,Budget_dettaglio!E21,Budget_dettaglio!E27,Budget_dettaglio!E33,Budget_dettaglio!E39,Budget_dettaglio!E45,Budget_dettaglio!E51,Budget_dettaglio!E57,Budget_dettaglio!E63,Budget_dettaglio!E69) -> 0 | D15: =SUM(Budget_dettaglio!F15,Budget_dettaglio!F21,Budget_dettaglio!F27,Budget_dettaglio!F33,Budget_dettaglio!F39,Budget_dettaglio!F45,Budget_dettaglio!F51,Budget_dettaglio!F57,Budget_dettaglio!F63,Budget_dettaglio!F69) -> 0 | E15: =SUM(Budget_dettaglio!G15,Budget_dettaglio!G21,Budget_dettaglio!G27,Budget_dettaglio!G33,Budget_dettaglio!G39,Budget_dettaglio!G45,Budget_dettaglio!G51,Budget_dettaglio!G57,Budget_dettaglio!G63,Budget_dettaglio!G69) -> 0 | F15: =Budget_dettaglio!H15+Budget_dettaglio!H21+Budget_dettaglio!H27+Budget_dettaglio!H33+Budget_dettaglio!H39+Budget_dettaglio!H45+Budget_dettaglio!H51+Budget_dettaglio!H57+Budget_dettaglio!H63+Budget_dettaglio!H69 -> 0 | G15: =Budget_dettaglio!$I$15+Budget_dettaglio!$I$21+Budget_dettaglio!$I$27+Budget_dettaglio!$I$33+Budget_dettaglio!$I$39+Budget_dettaglio!$I$45+Budget_dettaglio!$I$51+Budget_dettaglio!$I$57+Budget_dettaglio!$I$63+Budget_dettaglio!$I$69 -> 0 | H15: =Budget_dettaglio!$J$15+Budget_dettaglio!$J$21+Budget_dettaglio!$J$27+Budget_dettaglio!$J$33+Budget_dettaglio!$J$39+Budget_dettaglio!$J$45+Budget_dettaglio!$J$51+Budget_dettaglio!$J$57+Budget_dettaglio!$J$63+Budget_dettaglio!$J$69 -> 0 | I15: =Budget_dettaglio!$K$15+Budget_dettaglio!$K$21+Budget_dettaglio!$K$27+Budget_dettaglio!$K$33+Budget_dettaglio!$K$39+Budget_dettaglio!$K$45+Budget_dettaglio!$K$51+Budget_dettaglio!$K$57+Budget_dettaglio!$K$63+Budget_dettaglio!$K$69 -> 0 | J15: =Budget_dettaglio!$L$15+Budget_dettaglio!$L$21+Budget_dettaglio!$L$27+Budget_dettaglio!$L$33+Budget_dettaglio!$L$39+Budget_dettaglio!$L$45+Budget_dettaglio!$L$51+Budget_dettaglio!$L$57+Budget_dettaglio!$L$63+Budget_dettaglio!$L$69 -> 0 | K15: =$G$15+$H$15+$I$15+$J$15 -> 0 | L15: =F15-K15 -> 0 | N15: =K15/K16 -> #DIV/0! | O15: =K15/(K11+K12+K13+K14) -> #DIV/0!
B16: =SUM(B11:B15) -> 0 | C16: =SUM(C11:C15) -> 0 | D16: =SUM(D11:D15) -> 0 | E16: =SUM(E11:E15) -> 0 | F16: =SUM(F11:F15) -> 0 | G16: =SUM(G11:G15) -> 0 | H16: =SUM(H11:H15) -> 0 | I16: =SUM(I11:I15) -> 0 | ... K16: =SUM(K11:K15) -> 0 | L16: =SUMIF(L11:L15, ">0") -> 0 | M16: =L16/K16 -> #DIV/0!
G17: =G16/$K$16 -> #DIV/0! | H17: =H16/$K$16 -> #DIV/0! | I17: =I16/$K$16 -> #DIV/0! | J17: =J16/$K$16 -> #DIV/0!

Sheet Budget_per Relazione
A2: WP/Task/fase. | C2: BGT VIGENTE | D2: Importo associato al rendiconto (*) | E2: Spesa effettiva cumulata (**) | F2: Spesa da realizzare
A3: 1 | B3: =Budget_dettaglio!B10 -> 0 | C3: =Budget_dettaglio!H10 -> 0 | D3: 0 | E3: 0 | F3: =C3-E3 -> 0
A4: 2 | B4: =Budget_dettaglio!B11 -> 0 | C4: =Budget_dettaglio!H16 -> 0 | F4: =C4-E4 -> 0
A5: 3 | B5: =Budget_dettaglio!B12 -> 0 | C5: =Budget_dettaglio!H22 -> 0 | F5: =C5-E5 -> 0
A6: 4 | B6: =Budget_dettaglio!B13 -> 0 | C6: =Budget_dettaglio!H28 -> 0 | F6: =C6-E6 -> 0
A7: 5 | B7: =Budget_dettaglio!B14 -> 0 | C7: =Budget_dettaglio!H34 -> 0 | F7: =C7-E7 -> 0
A8: 6 | B8: =Budget_dettaglio!B15 -> 0 | C8: =Budget_dettaglio!H40 -> 0 | F8: =C8-E8 -> 0
A9: 7 | B9: =Budget_dettaglio!B16 -> 0 | C9: =Budget_dettaglio!H46 -> 0 | F9: =C9-E9 -> 0
A10: 8 | B10: =Budget_dettaglio!B17 -> 0 | C10: =Budget_dettaglio!H52 -> 0 | F10: =C10-E10 -> 0
A11: 9 | B11: =Budget_dettaglio!B18 -> 0 | C11: =Budget_dettaglio!H58 -> 0 | F11: =C11-E11 -> 0
A12: 10 | B12: =Budget_dettaglio!B19 -> 0 | C12: =Budget_dettaglio!H64 -> 0 | F12: =C12-E12 -> 0
C13: =C$3+C$4+C$5+C$6+C$7+C$8+C$9+C$10+C$11+C$12 -> 0 | D13: =D$3+D$4+D$5+D$6+D$7+D$8+D$9+D$10+D$11+D$12 -> 0 | E13: =E$3+E$4+E$5+E$6+E$7+E$8+E$9+E$10+E$11+E$12 -> 0 | F13: =F$3+F$4+F$5+F$6+F$7+F$8+F$9+F$10+F$11+F$12 -> 0
B15: (*) campo valorizzato qualora alla Relazione sia associata una DdR
B16: (**) si intende la spesa effettiva cumulata alla data della Relazione, anche se non oggetto di rendicontazione

Sheet GANTT_WP
B2: 202X | N2: 202X | Z2: 202X | AL2: 202X | AX2: 202X
B3: I | C3: II | D3: III | E3: IV | F3: V | G3: VI | H3: VII | I3: VIII | J3: IX | K3: X | L3: XI | M3: XII | N3: I | O3: II | P3: III | Q3: IV | R3: V | S3: VI | T3: VII | U3: VIII | V3: IX | W3: X | X3: XI | Y3: XII | Z3: I | AA3: II | AB3: III | AC3: IV | AD3: V | AE3: VI | AF3: VII | AG3: VIII | AH3: IX | AI3: X | AJ3: XI | AK3: XII | AL3: I | AM3: II | AN3: III | AO3: IV | AP3: V | AQ3: VI | AR3: VII | AS3: VIII | AT3: IX | AU3: X | AV3: XI | AW3: XII | AX3: I | AY3: II | AZ3: III | BA3: IV | BB3: V | BC3: VI | BD3: VII | BE3: VIII | BF3: IX | BG3: X | BH3: XI | BI3: XII
A4: WP 1
A5: WP 2
A6: WP 3
A7: WP 4
A8: WP 5
A9: WP 6
A10: WP 7
A11: WP 8
A12: WP 9
A13: WP 10
